BEGIN:VCALENDAR
PRODID:-//github.com/ical-org/ical.net//NONSGML ical.net 4.0//EN
VERSION:2.0
BEGIN:VEVENT
DESCRIPTION:A nyár előtti könnyedség jegyében ez az este a buborékokról sz
 ól.\nHabzóbor\, gyöngyözőbor\, Prosecco\, Champagne – ismerős nevek\, de 
 vajon tudjuk\, mi történik mögöttük?\n
DTEND:20260430T163000Z
DTSTAMP:20260421T141450Z
DTSTART:20260430T150000Z
GEO:46.953453;17.891706
LOCATION:Zelna Borbisztró\nBalatonfüred\, Zákonyi Ferenc u. 3
SEQUENCE:0
SUMMARY:Buborékos borkóstoló Balatonfüreden – Vino Mater borkultúra klub a
  Zelna Bisztróban.
UID:faa740b6-4586-42af-a757-13b7a1a9980c
END:VEVENT
END:VCALENDAR
