BEGIN:VCALENDAR
PRODID:-//github.com/ical-org/ical.net//NONSGML ical.net 4.0//EN
VERSION:2.0
BEGIN:VEVENT
DESCRIPTION:Tavaszi kikapcsolódás a balatoni dűlők között – séta\, termész
 et és borkóstoló.
DTEND:20260502T123000Z
DTSTAMP:20260421T141505Z
DTSTART:20260502T090000Z
GEO:46.953453;17.891706
LOCATION:Zelna Borbisztró\nBalatonfüred\, Zákonyi Ferenc u. 3
SEQUENCE:0
SUMMARY:Tavaszi dűlőtúra és borkóstoló a Zelna Borászattal Balatonfüreden
UID:f0d5c9b2-1bbc-42a5-9b80-fb301556dd3e
END:VEVENT
END:VCALENDAR
