BEGIN:VCALENDAR
PRODID:-//github.com/ical-org/ical.net//NONSGML ical.net 4.0//EN
VERSION:2.0
BEGIN:VEVENT
DESCRIPTION:Baráti hangulat\, szervezett háttér\, biztos kíséret a pályán.
  Csatlakozz bármelyik távhoz\, és tekerj a közösséggel!
DTEND;VALUE=DATE:20260510
DTSTAMP:20260421T114141Z
DTSTART;VALUE=DATE:20260508
GEO:46.884632;17.936400
LOCATION:Zamárdi Nagystrand\nZamárdi\, Margó Ede sétány 14
SEQUENCE:0
SUMMARY:XXVII. Balatonkör
UID:184034ae-f89b-4100-bbe3-8cd5817ed19f
END:VEVENT
END:VCALENDAR
