BEGIN:VCALENDAR
PRODID:-//github.com/ical-org/ical.net//NONSGML ical.net 4.0//EN
VERSION:2.0
BEGIN:VEVENT
DESCRIPTION:Időpont: hétfő\, szerda\, péntek: 06:00-07:30\; hétfő\, szerda
 : 15:30-17:30
DTEND;VALUE=DATE:20260515
DTSTAMP:20260421T031148Z
DTSTART;VALUE=DATE:20260216
GEO:47.032014;18.027853
LOCATION:Balatonalmádi\, Pannon Egyetem Vízisport telep\nBalatonalmádi\, L
 óczy Lajos tér 3
SEQUENCE:0
SUMMARY:Vízi evezős edzések - VESC
UID:41927e70-b91d-41cd-b5f4-9dc50363bd8d
END:VEVENT
END:VCALENDAR
