BEGIN:VCALENDAR
PRODID:-//github.com/ical-org/ical.net//NONSGML ical.net 4.0//EN
VERSION:2.0
BEGIN:VEVENT
DESCRIPTION:Egy közepes intenzitású\, funkcionális – természetes mozgásmin
 tákra épülő – saját testsúlyos edzés\, amely a helyes testtartás és légzé
 s fejlesztését\, a törzsizmok erősítését\, valamint az ízületek mozgékony
 ságának és az állóképesség javítását célozza meg.
DTEND:20261230T173000Z
DTSTAMP:20260420T164128Z
DTSTART:20260325T173000Z
GEO:46.922752;17.550130
LOCATION:Mesevirág Óvoda és Bölcsőde Tornaterem\nMonostorapáti\, Óvoda u. 5
SEQUENCE:0
SUMMARY:VitálApáti - funkcionális edzés Monostorapátin
UID:497ad4c0-a6c3-4b47-9400-cfced8d9d7bb
END:VEVENT
END:VCALENDAR
