BEGIN:VCALENDAR
PRODID:-//github.com/ical-org/ical.net//NONSGML ical.net 4.0//EN
VERSION:2.0
BEGIN:VEVENT
DESCRIPTION:Terepfutás a Balaton-felvidéken: válassz távot\, nevezz\, és é
 ld át az Ultrabalaton Trail hangulatát!
DTEND;VALUE=DATE:20261003
DTSTAMP:20260421T084106Z
DTSTART;VALUE=DATE:20261002
GEO:47.006841;17.915276
LOCATION:Balatoni Élménypark Csopak\nPaloznak
SEQUENCE:0
SUMMARY:VIII. Ultrabalaton Trail
UID:1eaad4ea-3251-4fb6-891a-e0e68094a983
END:VEVENT
END:VCALENDAR
