BEGIN:VCALENDAR
PRODID:-//github.com/ical-org/ical.net//NONSGML ical.net 4.0//EN
VERSION:2.0
BEGIN:VEVENT
DESCRIPTION:Vezetett e-bike túra kapolcsi indulással a környék legszebb tú
 raútvonalain.
DTEND:20260328T110000Z
DTSTAMP:20260420T183443Z
DTSTART:20260328T090000Z
GEO:46.955675;17.606851
LOCATION:MűvészVölgy Kúria\nKapolcs\, Kossuth u. 48
SEQUENCE:0
SUMMARY:Vezetett e-bike túra
UID:1ce687f4-ceb3-4d6e-b0a9-fc0c37669780
END:VEVENT
END:VCALENDAR
