BEGIN:VCALENDAR
PRODID:-//github.com/ical-org/ical.net//NONSGML ical.net 4.0//EN
VERSION:2.0
BEGIN:VEVENT
DESCRIPTION:Tudtad\, hogy Veszprémben áprilisig korcsolyázhatsz és jégdisz
 kókon bulizhatsz?
DTEND;VALUE=DATE:20260405
DTSTAMP:20260419T131414Z
DTSTART;VALUE=DATE:20251129
GEO:47.109376;17.900821
LOCATION:Jégcsarnok Veszprém\nVeszprém\, Tüzér u.
SEQUENCE:0
SUMMARY:Veszprém Jégcsarnok közönségkorcsolyázás
UID:d8b839d6-c900-4a29-9630-abdb6f5b1935
END:VEVENT
END:VCALENDAR
