BEGIN:VCALENDAR
PRODID:-//github.com/ical-org/ical.net//NONSGML ical.net 4.0//EN
VERSION:2.0
BEGIN:VEVENT
DESCRIPTION:Készen állsz egy őrületes nagy Szilveszteri bulira?
DTEND:20260101T020000Z
DTSTAMP:20260419T130834Z
DTSTART:20251231T170000Z
GEO:47.220282;18.116121
LOCATION:Thury-vár\nVárpalota\, Hunyadi Mátyás tér 1
SEQUENCE:0
SUMMARY:Városi Szilveszter - Várpalota
UID:0eaba205-0a49-4f18-af0f-7e56ce58412d
END:VEVENT
END:VCALENDAR
