BEGIN:VCALENDAR
PRODID:-//github.com/ical-org/ical.net//NONSGML ical.net 4.0//EN
VERSION:2.0
BEGIN:VEVENT
DESCRIPTION:Varázslatos adventi és ünnepi programok Hévíz több helyszínén.
DTEND;VALUE=DATE:20251231
DTSTAMP:20260419T131308Z
DTSTART;VALUE=DATE:20251129
GEO:46.790286;17.186694
LOCATION:Hévíz\nHévíz
SEQUENCE:0
SUMMARY:Ünnepi fényvarázs Hévízen
UID:e7034f97-47d4-4ef5-8de0-44ca9f3a1ee4
END:VEVENT
END:VCALENDAR
