BEGIN:VCALENDAR
PRODID:-//github.com/ical-org/ical.net//NONSGML ical.net 4.0//EN
VERSION:2.0
BEGIN:VEVENT
DESCRIPTION:Tihany Jump & Brunch – jumping edzés és brunch panorámával
DTEND:20260425T090000Z
DTSTAMP:20260421T142224Z
DTSTART:20260425T080000Z
GEO:46.916223;17.887978
LOCATION:Echo Restaurant & Cafe\nTihany\, Alsóóvári u. 1
SEQUENCE:0
SUMMARY:Tihany Jump & Brunch - Echo Fesztivál
UID:6b050916-2644-4172-82d3-2ff32f434b97
END:VEVENT
END:VCALENDAR
