BEGIN:VCALENDAR
PRODID:-//github.com/ical-org/ical.net//NONSGML ical.net 4.0//EN
VERSION:2.0
BEGIN:VEVENT
DESCRIPTION:Ez egy teszt esemény\, amely kizárólag a HelloVEB rendszer műk
 ödésének bemutatását szolgálja. A tartalom nem valós programot reprezentá
 l\, célja az esemény–helyszín–személy/csoport kapcsolatok szemléltetése.
DTEND:20260330T140000Z
DTSTAMP:20260420T163307Z
DTSTART:20260330T060000Z
GEO:47.092374;17.903893
LOCATION:TESZT | HelloVEB tartalomfeltöltési bemutató helyszín\nVeszprém\,
  Dózsa György u. 2
SEQUENCE:0
SUMMARY:TESZT | HelloVEB tartalomfeltöltési bemutató esemény
UID:c642c13e-9c65-4b37-84db-af83dba34cae
END:VEVENT
END:VCALENDAR
