BEGIN:VCALENDAR
PRODID:-//github.com/ical-org/ical.net//NONSGML ical.net 4.0//EN
VERSION:2.0
BEGIN:VEVENT
DESCRIPTION:Természetismereti szakkör 1-5. osztályos gyermekek számára Bad
 acsonyörsön\, a Folly Arborétumban.
DTEND:20260321T110000Z
DTSTAMP:20260420T195013Z
DTSTART:20260321T090000Z
GEO:46.809264;17.544754
LOCATION:Folly Arborétum és Borászat \nBadacsonytomaj\, Badacsonyörs\, Káp
 olnavölgyi út 25
SEQUENCE:0
SUMMARY:Természettudós foglalkozások a Folly Arborétumban 2026
UID:46aa65d5-ca8f-4959-9ba2-1533604cb152
END:VEVENT
END:VCALENDAR
