BEGIN:VCALENDAR
PRODID:-//github.com/ical-org/ical.net//NONSGML ical.net 4.0//EN
VERSION:2.0
BEGIN:VEVENT
DESCRIPTION:Helyszín: Zöldgólya Óvoda\, 8391 Sármellék\, Dózsa György u. 3
 44.
DTEND;VALUE=DATE:20261231
DTSTAMP:20260420T163238Z
DTSTART;VALUE=DATE:20260401
GEO:46.716928;17.170461
LOCATION:Sármellék\nSármellék
SEQUENCE:0
SUMMARY:Táncoló Talpak – zenés\, táncos gyermekfoglalkozás
UID:58dd9fd3-f357-4219-ab7b-f61b7d26d42c
END:VEVENT
END:VCALENDAR
