BEGIN:VCALENDAR
PRODID:-//github.com/ical-org/ical.net//NONSGML ical.net 4.0//EN
VERSION:2.0
BEGIN:VEVENT
DESCRIPTION:A hasizmok elválasztódásának helyreállítása az RTM – Rectus Tr
 aining módszerrel. Az órákra csecsemők is jöhetnek. Egy foglalkozás körül
 belül 50 percig tart.
DTEND:20260401T090000Z
DTSTAMP:20260421T031356Z
DTSTART:20260401T080000Z
GEO:47.102435;17.902846
LOCATION:Női egészség tornák\nVeszprém\, Tüzér u. 2
SEQUENCE:0
SUMMARY:Szétnyílt hasizom regeneráció (RTM – Rectus Training Módszer)
UID:00e80043-1763-4a41-a37a-1d91ea28e5ab
END:VEVENT
END:VCALENDAR
