BEGIN:VCALENDAR
PRODID:-//github.com/ical-org/ical.net//NONSGML ical.net 4.0//EN
VERSION:2.0
BEGIN:VEVENT
DESCRIPTION:Szent György-hegy Hajnalig – bor\, zene és élmények június 6-á
 n!
DTEND:20260621T230000Z
DTSTAMP:20260421T173722Z
DTSTART:20260606T100000Z
GEO:46.832869;17.431990
LOCATION:Hegymagas\nHegymagas
SEQUENCE:0
SUMMARY:Szent György-hegy hajnalig
UID:55b815ba-2b64-41cc-8c5f-e870d17db5d9
END:VEVENT
END:VCALENDAR
