BEGIN:VCALENDAR
PRODID:-//github.com/ical-org/ical.net//NONSGML ical.net 4.0//EN
VERSION:2.0
BEGIN:VEVENT
DESCRIPTION:Április 3-án indul a szezon a Sobri Jóska Élményparkban: aktív
 \, egész napos kikapcsolódás földön\, vízen és levegőben a Bakony szívébe
 n.
DTEND;VALUE=DATE:20261031
DTSTAMP:20260420T183530Z
DTSTART;VALUE=DATE:20260403
GEO:47.132000;17.633000
LOCATION:Sobri Jóska Élménypark\nKislőd
SEQUENCE:0
SUMMARY:Sobri Jóska élménypark
UID:0abe8922-56c6-4f7e-b0ec-c0c8cb48b074
END:VEVENT
END:VCALENDAR
