BEGIN:VCALENDAR
PRODID:-//github.com/ical-org/ical.net//NONSGML ical.net 4.0//EN
VERSION:2.0
BEGIN:VEVENT
DESCRIPTION:Az 50 pluszos szenior korosztályt várjuk erre a könnyed 45 per
 ces gyakorlásra pénteki napokon 17.00 órától. A foglalkozás ingyenes\, de
  kérjük regisztrálj a zsofibohm@gmail.com emailcímen.
DTEND:20260220T164500Z
DTSTAMP:20260420T220344Z
DTSTART:20260220T160000Z
GEO:46.955675;17.606851
LOCATION:MűvészVölgy Kúria\nKapolcs\, Kossuth u. 48
SEQUENCE:0
SUMMARY:Senior Balance: Könnyed mozgás 50 év felett
UID:2fe9a43b-f662-4109-a14b-f0dfbf360630
END:VEVENT
END:VCALENDAR
