BEGIN:VCALENDAR
PRODID:-//github.com/ical-org/ical.net//NONSGML ical.net 4.0//EN
VERSION:2.0
BEGIN:VEVENT
DESCRIPTION:Az országban elsőként megvalósuló\, térségünk számára kiemelke
 dő és hiánypótló esemény megvalósításáról van szó\, amelynek fő célja a t
 érségfejlesztés és a közösségépítés. A programmal a régió kulturális felf
 edezésére\, népszerűsítésére RÉGIÓ FESZTIVÁL - KultúrÉtlap néven kerül so
 r.
DTSTAMP:20260421T142236Z
DTSTART;VALUE=DATE:20260509
GEO:46.757656;17.316947
LOCATION:Vonyarcvashegy Központ-Rendezvénytér\nVonyarcvashegy\, Kossuth La
 jos utca 42
SEQUENCE:0
SUMMARY:Régió Fesztivál - KultúrÉtlap Vonyarcvashegy
UID:7454db45-4992-4c7d-891e-8a74ad8fdcc2
END:VEVENT
END:VCALENDAR
