BEGIN:VCALENDAR
PRODID:-//github.com/ical-org/ical.net//NONSGML ical.net 4.0//EN
VERSION:2.0
BEGIN:VEVENT
DESCRIPTION:Angol nyelvű kvíz est
DTEND:20260421T160000Z
DTSTAMP:20260419T151857Z
DTSTART:20260421T150000Z
GEO:47.090505;17.906624
LOCATION:American Corner Veszprém\nVeszprém\, Komakút tér 3
SEQUENCE:0
SUMMARY:Quiz Night
UID:4af619bc-2399-482d-a3c9-12ca2c7be194
END:VEVENT
END:VCALENDAR
