BEGIN:VCALENDAR
PRODID:-//github.com/ical-org/ical.net//NONSGML ical.net 4.0//EN
VERSION:2.0
BEGIN:VEVENT
DESCRIPTION:Rajzfilmünnep 2025 – Veszprémben és a Balatonon is vár a rajzf
 ilmes varázs!
DTEND;VALUE=DATE:20251116
DTSTAMP:20260419T131420Z
DTSTART;VALUE=DATE:20251114
GEO:47.102809;17.909302
LOCATION:Országos vagy régiós helyszín\nVeszprém
SEQUENCE:0
SUMMARY:Országos Rajzfilmünnep 2025
UID:d68da5a0-d23c-43ee-8bb0-a17a85a8ca95
END:VEVENT
END:VCALENDAR
