BEGIN:VCALENDAR
PRODID:-//github.com/ical-org/ical.net//NONSGML ical.net 4.0//EN
VERSION:2.0
BEGIN:VEVENT
DESCRIPTION:Örömzene koncert Herenden – ünnepi dallamok decemberben
DTEND:20251221T230000Z
DTSTAMP:20260419T131128Z
DTSTART:20251221T150000Z
GEO:47.132051;17.753076
LOCATION:Pesovár Ernő Művelődési Ház\nHerend\, Kossuth Lajos u. 136
SEQUENCE:0
SUMMARY:Örömzene koncert
UID:b094a750-1345-4c44-b54c-f878003ade02
END:VEVENT
END:VCALENDAR
