BEGIN:VCALENDAR
PRODID:-//github.com/ical-org/ical.net//NONSGML ical.net 4.0//EN
VERSION:2.0
BEGIN:VEVENT
DESCRIPTION:Ajándékozz immerzív élményt a CODE Digitális Élményközpontba! 
 Az ajándékkártya több jegytípusra beváltható\, online és személyesen is f
 elhasználható\, 12 hónapig érvényes.
DTEND:20261231T170000Z
DTSTAMP:20260420T082748Z
DTSTART:20251119T230000Z
GEO:47.092425;17.903931
LOCATION:CODE Kiállítóterek\nVeszprém\, Dózsa György utca 2
SEQUENCE:0
SUMMARY:CODE ONLINE Ajándékutalvány
UID:e457a4e5-b25e-4c3c-99c8-826dea8ad229
END:VEVENT
END:VCALENDAR
