BEGIN:VCALENDAR
PRODID:-//github.com/ical-org/ical.net//NONSGML ical.net 4.0//EN
VERSION:2.0
BEGIN:VEVENT
DESCRIPTION:Nevetni kell\, ennyi az egész – zenés kabaré a Thury‑várban
DTEND:20260428T183000Z
DTSTAMP:20260419T161830Z
DTSTART:20260428T170000Z
GEO:47.220282;18.116121
LOCATION:Thury-vár\nVárpalota\, Hunyadi Mátyás tér 1
SEQUENCE:0
SUMMARY:Nevetni kell\, ennyi az egész - Thury Vár
UID:5de106a1-a280-4c14-a648-73271c09de93
END:VEVENT
END:VCALENDAR
