BEGIN:VCALENDAR
PRODID:-//github.com/ical-org/ical.net//NONSGML ical.net 4.0//EN
VERSION:2.0
BEGIN:VEVENT
DESCRIPTION:Nemzeti BBQ Nap – füstös grillélmény az Echo Étteremben
DTEND:20260516T190000Z
DTSTAMP:20260421T171816Z
DTSTART:20260516T093000Z
GEO:46.916223;17.887978
LOCATION:Echo Restaurant & Cafe\nTihany\, Alsóóvári u. 1
SEQUENCE:0
SUMMARY:Nemzeti BBQ Nap - Echo Étterem
UID:7eb63bd9-eabe-4d8a-bf99-fbf143813af1
END:VEVENT
END:VCALENDAR
