BEGIN:VCALENDAR
PRODID:-//github.com/ical-org/ical.net//NONSGML ical.net 4.0//EN
VERSION:2.0
BEGIN:VEVENT
DESCRIPTION:„Egy jó rendezvény nem akkor kezdődik\, amikor kinyit a kapu\,
  hanem amikor először találkozunk vele online.” A következő MeetUp alkalm
 ával a rendezvényszervezés digitális hátterébe nyerhetünk betekintést két
  szakértő segítségével.\nA rendezvényipar az elmúlt években alapjaiban al
 akult át: a digitális eszközök ma már nem csupán a kommunikációt támogatj
 ák\, hanem a teljes élmény részévé váltak. \n
DTEND:20260422T180000Z
DTSTAMP:20260420T220734Z
DTSTART:20260422T163000Z
GEO:46.955675;17.606851
LOCATION:MűvészVölgy Kúria\nKapolcs\, Kossuth u. 48
SEQUENCE:0
SUMMARY:MTPA ReDiTu MeetUP(#32.): Digitális eszközök a rendezvények szolgá
 latában
UID:af97b13d-42c6-40dd-9456-2d8e15baeb60
END:VEVENT
END:VCALENDAR
