BEGIN:VCALENDAR
PRODID:-//github.com/ical-org/ical.net//NONSGML ical.net 4.0//EN
VERSION:2.0
BEGIN:VEVENT
DTEND:20260521T183000Z
DTSTAMP:20260421T064051Z
DTSTART:20260521T173000Z
GEO:47.124144;17.817446
LOCATION:Márkó\nMárkó
SEQUENCE:0
SUMMARY:Mozgásban a közösség—Márkó 2026 Zumba
UID:966e6370-e095-45e2-970a-20b85557e877
END:VEVENT
END:VCALENDAR
