BEGIN:VCALENDAR
PRODID:-//github.com/ical-org/ical.net//NONSGML ical.net 4.0//EN
VERSION:2.0
BEGIN:VEVENT
DESCRIPTION:A tájfutás során térképpel kell pontokat keresni szabad útvona
 lon. Márkón a Veszprémi Tájfutó Club nyílt edzéseket szervez kezdőknek és
  haladóknak.
DTEND:20260519T160000Z
DTSTAMP:20260421T030930Z
DTSTART:20260519T150000Z
GEO:47.124144;17.817446
LOCATION:Márkó\nMárkó
SEQUENCE:0
SUMMARY:Mozgásban a közösség—Márkó 2026 Tájfutás
UID:251d913f-ef27-4503-a740-ec2b2f43c42a
END:VEVENT
END:VCALENDAR
