BEGIN:VCALENDAR
PRODID:-//github.com/ical-org/ical.net//NONSGML ical.net 4.0//EN
VERSION:2.0
BEGIN:VEVENT
DESCRIPTION:Szabadtéri edzések változatos gyakorlatokkal\, három edző veze
 tésével. Ingyenes mozgáslehetőség a friss levegőn a mini fitness parkban.
DTEND:20260919T170000Z
DTSTAMP:20260421T063716Z
DTSTART:20260919T160000Z
GEO:47.124144;17.817446
LOCATION:Márkó\nMárkó
SEQUENCE:0
SUMMARY:Mozgásban a közösség – Márkó 2026 Szabadtéri edzések
UID:30d49c83-91fa-4390-8295-33ca5a0a0e24
END:VEVENT
END:VCALENDAR
