BEGIN:VCALENDAR
PRODID:-//github.com/ical-org/ical.net//NONSGML ical.net 4.0//EN
VERSION:2.0
BEGIN:VEVENT
DESCRIPTION:A Pilates és gerinctorna erősíti a mélyizmokat\, javítja a tes
 ttartást\, növeli a rugalmasságot és stabilitást\, miközben az egész test
 et átmozgatja.
DTEND:20260617T170000Z
DTSTAMP:20260421T064149Z
DTSTART:20260617T160000Z
GEO:47.124144;17.817446
LOCATION:Márkó\nMárkó
SEQUENCE:0
SUMMARY:Mozgásban a közösség – Márkó 2026 Pilates
UID:0ad9961c-d89b-492c-bff1-2c0c464e8b7a
END:VEVENT
END:VCALENDAR
