BEGIN:VCALENDAR
PRODID:-//github.com/ical-org/ical.net//NONSGML ical.net 4.0//EN
VERSION:2.0
BEGIN:VEVENT
DESCRIPTION:A jóga légzéssel összehangolt mozgás\, amely erősíti az izmoka
 t\, növeli a rugalmasságot\, csökkenti a stresszt és javítja a közérzetet
 .
DTEND:20260522T170000Z
DTSTAMP:20260421T064141Z
DTSTART:20260522T160000Z
GEO:47.124144;17.817446
LOCATION:Márkó\nMárkó
SEQUENCE:0
SUMMARY:Mozgásban a közösség – Márkó 2026 Jóga
UID:ea66cc8b-f68d-47e3-a98c-f2e23c4d2176
END:VEVENT
END:VCALENDAR
