BEGIN:VCALENDAR
PRODID:-//github.com/ical-org/ical.net//NONSGML ical.net 4.0//EN
VERSION:2.0
BEGIN:VEVENT
DESCRIPTION:A nordic walking lendületes gyaloglás botokkal\, amely a karok
  aktív munkájával az egész testet átmozgatja\, javítja az állóképességet 
 és a koordinációt.
DTEND:20260509T090000Z
DTSTAMP:20260421T063901Z
DTSTART:20260509T070000Z
GEO:47.124144;17.817446
LOCATION:Márkó\nMárkó
SEQUENCE:0
SUMMARY:Mozgásban a közösség – Márkó 2026 Nordic Walking
UID:1293949e-aa00-4ff5-88ad-43a4caeadb89
END:VEVENT
END:VCALENDAR
