BEGIN:VCALENDAR
PRODID:-//github.com/ical-org/ical.net//NONSGML ical.net 4.0//EN
VERSION:2.0
BEGIN:VEVENT
DESCRIPTION:Bakonynána településen a Bakonynánai Oktatási Kulturális és Sp
 ort Alapítvány a Veszprém Balaton Európa Spotrégió 2026 program keretén b
 elül egész évben sportolási lehetőségeket biztosít a különböző sportok ir
 ánt érdeklődőknek (röplabda\, foci\, kosárlabda\, ping-pong\, floorball).
DTEND:20260324T173000Z
DTSTAMP:20260421T031233Z
DTSTART:20260324T153000Z
GEO:47.278684;17.970251
LOCATION:Bakonynánai Oktatási Kulturális és Sport Alapítvány\nBakonynána\,
  Alkotmány u. 3
SEQUENCE:0
SUMMARY:Mozdulj\, Bakonynána! - Vitalizáló sportfoglalkozások
UID:42bfc7a6-af8f-4d0d-a93d-c5717021bd44
END:VEVENT
END:VCALENDAR
