BEGIN:VCALENDAR
PRODID:-//github.com/ical-org/ical.net//NONSGML ical.net 4.0//EN
VERSION:2.0
BEGIN:VEVENT
DESCRIPTION:A program játékos\, biztonságos keretek között segíti az ellaz
 ulást\, az önkifejezést és a testi-lelki harmónia megélését.
DTEND:20260131T103000Z
DTSTAMP:20260420T083302Z
DTSTART:20260131T090000Z
GEO:46.955675;17.606851
LOCATION:MűvészVölgy Kúria\nKapolcs\, Kossuth u. 48
SEQUENCE:0
SUMMARY:Mesés hangszersimogató és mindfulness mozgásos gyakorlatok családo
 knak
UID:c0ed1bd0-bb55-4382-bd41-513b790c63e2
END:VEVENT
END:VCALENDAR
