BEGIN:VCALENDAR
PRODID:-//github.com/ical-org/ical.net//NONSGML ical.net 4.0//EN
VERSION:2.0
BEGIN:VEVENT
DESCRIPTION:Mesés hangszersimogató és mindfulness mozgásos gyakorlatok csa
 ládoknak Kirchner Claudiával.
DTEND:20260228T103000Z
DTSTAMP:20260420T082748Z
DTSTART:20260228T090000Z
SEQUENCE:0
SUMMARY:Mesés hangszersimogató és mindfulness mozgásos gyakorlatok családo
 knak
UID:e0708838-1ab1-41ff-b0c2-59b165954325
END:VEVENT
END:VCALENDAR
