BEGIN:VCALENDAR
PRODID:-//github.com/ical-org/ical.net//NONSGML ical.net 4.0//EN
VERSION:2.0
BEGIN:VEVENT
DESCRIPTION:Vidám délelőtti foglalkozás sok dallal\, zenével és mesével. A
  program ingyenes!
DTEND:20260321T150000Z
DTSTAMP:20260420T220035Z
DTSTART:20260321T140000Z
GEO:46.955675;17.606851
LOCATION:MűvészVölgy Kúria\nKapolcs\, Kossuth u. 48
SEQUENCE:0
SUMMARY:Mesélő hangszerek Rábaközi Ritával és Karnisné Dudás Mónikával
UID:7814a84e-e85d-4475-bcf7-ce2ab38a96f6
END:VEVENT
END:VCALENDAR
