BEGIN:VCALENDAR
PRODID:-//github.com/ical-org/ical.net//NONSGML ical.net 4.0//EN
VERSION:2.0
BEGIN:VEVENT
DESCRIPTION:Matcha Weekend – különleges matchás italok és desszertek a Reg
 e Cukrászdában
DTEND:20260426T180000Z
DTSTAMP:20260421T141505Z
DTSTART:20260426T060000Z
GEO:46.913232;17.889796
LOCATION:Apátsági Rege Cukrászda\nTihany\, Kossuth Lajos u. 22
SEQUENCE:0
SUMMARY:Matcha Weekend - Apátsági Rege Cukrászda
UID:dde34fe2-1797-442f-9847-994c9e8ea7a0
END:VEVENT
END:VCALENDAR
