BEGIN:VCALENDAR
PRODID:-//github.com/ical-org/ical.net//NONSGML ical.net 4.0//EN
VERSION:2.0
BEGIN:VEVENT
DESCRIPTION:Május 1-i hosszú hétvége – tavaszi élmények a Follyban
DTEND:20260502T180000Z
DTSTAMP:20260420T195721Z
DTSTART:20260502T080000Z
GEO:46.809264;17.544754
LOCATION:Folly Arborétum és Borászat \nBadacsonytomaj\, Badacsonyörs\, Káp
 olnavölgyi út 25
SEQUENCE:0
SUMMARY:Május 1-i hosszú hétvége a Follyban
UID:c3fe1bb6-ed78-4823-b574-ff6879fd0338
END:VEVENT
END:VCALENDAR
