BEGIN:VCALENDAR
PRODID:-//github.com/ical-org/ical.net//NONSGML ical.net 4.0//EN
VERSION:2.0
BEGIN:VEVENT
DESCRIPTION:Vasárnapi piacélmény a Káli-medencében – Liliomkert Káptalantó
 ti
DTEND;VALUE=DATE:20261231
DTSTAMP:20260421T141943Z
DTSTART;VALUE=DATE:20260101
GEO:46.853651;17.518941
LOCATION:Liliomkert Piac\nKáptalantóti\, Petőfi u. 13
SEQUENCE:0
SUMMARY:Liliomkert Piac
UID:86437266-58f4-4282-911a-fea22da7ea93
END:VEVENT
END:VCALENDAR
