BEGIN:VCALENDAR
PRODID:-//github.com/ical-org/ical.net//NONSGML ical.net 4.0//EN
VERSION:2.0
BEGIN:VEVENT
DESCRIPTION:Latin táncház kezdőknek és haladóknak\, egyénileg vagy párban.
  Gyere\, mozdulj velünk forró\, latin dallamokra Végh Terézia vezetésével
 . A programon a részvétel ingyenes!
DTEND:20260328T180000Z
DTSTAMP:20260420T221021Z
DTSTART:20260328T170000Z
GEO:46.955675;17.606851
LOCATION:MűvészVölgy Kúria\nKapolcs\, Kossuth u. 48
SEQUENCE:0
SUMMARY:Latin táncház
UID:80549104-c2ae-4db2-bf46-ce6be1a82e59
END:VEVENT
END:VCALENDAR
