BEGIN:VCALENDAR
PRODID:-//github.com/ical-org/ical.net//NONSGML ical.net 4.0//EN
VERSION:2.0
BEGIN:VEVENT
DESCRIPTION:A képzőművészeti tárlat két teremre osztva a győri Rómer Flóri
 s Múzeumban letétként őrzött Vasilescu gyűjteményből válogat.
DTEND:20260531T160000Z
DTSTAMP:20260421T085108Z
DTSTART:20251204T153000Z
GEO:47.090495;17.909170
LOCATION:Laczkó Dezső Múzeum\nVeszprém\, Erzsébet stny. 1
SEQUENCE:0
SUMMARY:Labirintus - Ország Lili és művésztársai
UID:e442b9d8-cca6-4f80-b303-dd09f1e596f3
END:VEVENT
END:VCALENDAR
