BEGIN:VCALENDAR
PRODID:-//github.com/ical-org/ical.net//NONSGML ical.net 4.0//EN
VERSION:2.0
BEGIN:VEVENT
DESCRIPTION:Áprilisi programok a múzeumban a Labirintus és az Üveg alkímiá
 ja képzőművészeti kiállításhoz kapcsolódóan.
DTEND;VALUE=DATE:20260430
DTSTAMP:20260423T140138Z
DTSTART;VALUE=DATE:20260420
GEO:47.090495;17.909170
LOCATION:Laczkó Dezső Múzeum\nVeszprém\, Erzsébet stny. 1
SEQUENCE:0
SUMMARY:Labirintus és az Üveg alkímiája
UID:02696eac-ab0e-4441-a243-e52de10091ee
END:VEVENT
END:VCALENDAR
