BEGIN:VCALENDAR
PRODID:-//github.com/ical-org/ical.net//NONSGML ical.net 4.0//EN
VERSION:2.0
BEGIN:VEVENT
DESCRIPTION:Táncház és néptáncoktatás minden korosztály számára a Badacson
 y-Tördemic Néptáncegyüttes táncosaival.
DTEND:20260329T160000Z
DTSTAMP:20260420T195521Z
DTSTART:20260329T150000Z
GEO:46.913637;17.523077
LOCATION:Monostorapáti\, Petőfi Sándor Művelődési Ház\nMonostorapáti\, Pet
 őfi Sándor utca
SEQUENCE:0
SUMMARY:Közösségi táncház Monostorapátin
UID:80292a45-c8b4-4656-9d0e-eb0577a2e58b
END:VEVENT
END:VCALENDAR
