BEGIN:VCALENDAR
PRODID:-//github.com/ical-org/ical.net//NONSGML ical.net 4.0//EN
VERSION:2.0
BEGIN:VEVENT
DESCRIPTION:Könyvcím Activity – irodalmi játék és közös nevetés
DTEND:20260422T173000Z
DTSTAMP:20260419T165717Z
DTSTART:20260422T160000Z
GEO:47.090505;17.906624
LOCATION:Eötvös Károly Könyvtár\nVeszprém\, Komakút tér 3
SEQUENCE:0
SUMMARY:Könyvcím Activity
UID:9cc47056-72b4-4268-8224-b7491ee67618
END:VEVENT
END:VCALENDAR
