BEGIN:VCALENDAR
PRODID:-//github.com/ical-org/ical.net//NONSGML ical.net 4.0//EN
VERSION:2.0
BEGIN:VEVENT
DESCRIPTION:Közösségi gasztromese kiszolgált katonával és furcsa főzőgéppe
 l. Interaktív\, zenés\, családbarát\, 4+ korosztálynak.
DTEND:20260124T095000Z
DTSTAMP:20260419T131015Z
DTSTART:20260124T090000Z
GEO:47.096455;17.905372
LOCATION:Kabóca Bábszínház\nVeszprém\, Deák Ferenc u. 13
SEQUENCE:0
SUMMARY:Kőleves
UID:fec60af5-120e-4607-aa27-66a3165f5a2a
END:VEVENT
END:VCALENDAR
