BEGIN:VCALENDAR
PRODID:-//github.com/ical-org/ical.net//NONSGML ical.net 4.0//EN
VERSION:2.0
BEGIN:VEVENT
DESCRIPTION:Kerekítő Ovimóka mozgásos elemekkel: többek közt nagymozgásos 
 játékokkal\, keresztirányú gyakorlatokkal\, térbeli tájékozódást igénylő 
 feladatokkal.
DTEND:20260411T090000Z
DTSTAMP:20260420T220201Z
DTSTART:20260411T080000Z
GEO:46.955675;17.606851
LOCATION:MűvészVölgy Kúria\nKapolcs\, Kossuth u. 48
SEQUENCE:0
SUMMARY:Kerekítő Ovimóka sok mozgással
UID:048d57a5-a497-49cd-9ef7-8f543317fa72
END:VEVENT
END:VCALENDAR
