BEGIN:VCALENDAR
PRODID:-//github.com/ical-org/ical.net//NONSGML ical.net 4.0//EN
VERSION:2.0
BEGIN:VEVENT
DESCRIPTION:Kecskeköröm Ünnep – különleges rétes és paprikás Tihanyban
DTEND:20260502T180000Z
DTSTAMP:20260421T142230Z
DTSTART:20260502T060000Z
GEO:46.913232;17.889796
LOCATION:Apátsági Rege Cukrászda\nTihany\, Kossuth Lajos u. 22
SEQUENCE:0
SUMMARY:Kecskeköröm Ünnep - Apátsági Rege Cukrászda
UID:28bab944-da70-4b25-afb5-2471fc176a5c
END:VEVENT
END:VCALENDAR
