BEGIN:VCALENDAR
PRODID:-//github.com/ical-org/ical.net//NONSGML ical.net 4.0//EN
VERSION:2.0
BEGIN:VEVENT
DESCRIPTION:A jóga mindenkié. Mindenkinek való\, kortól\, nemtől\, fizikai
  adottságoktól vagy állapottól függetlenül.
DTEND:20260128T171500Z
DTSTAMP:20260420T220407Z
DTSTART:20260128T160000Z
GEO:46.955675;17.606851
LOCATION:MűvészVölgy Kúria\nKapolcs\, Kossuth u. 48
SEQUENCE:0
SUMMARY:Jóga Zsófival
UID:6f035290-c9b3-4fb6-868f-7158ac15fcc9
END:VEVENT
END:VCALENDAR
