BEGIN:VCALENDAR
PRODID:-//github.com/ical-org/ical.net//NONSGML ical.net 4.0//EN
VERSION:2.0
BEGIN:VEVENT
DESCRIPTION:Csússz a balatonboglári jégpályán! Jégdiszkó\, curling és hoki
 s programok várnak!
DTEND;VALUE=DATE:20260208
DTSTAMP:20260421T171110Z
DTSTART;VALUE=DATE:20251128
GEO:46.773976;17.656070
LOCATION:Balatonboglár\nBalatonboglár
SEQUENCE:0
SUMMARY:Jégre Mindenki – Balatonboglár
UID:53b45bfb-bf18-45cb-b82f-4d3012ffb253
END:VEVENT
END:VCALENDAR
