BEGIN:VCALENDAR
PRODID:-//github.com/ical-org/ical.net//NONSGML ical.net 4.0//EN
VERSION:2.0
BEGIN:VEVENT
DESCRIPTION:Janicsák Veca adventi koncert – Ünnepi dallamok Veszprémben
DTEND:20251214T230000Z
DTSTAMP:20260419T132746Z
DTSTART:20251214T170000Z
GEO:47.093270;17.912052
LOCATION:Kossuth utca\nVeszprém\, Kossuth Lajos utca
SEQUENCE:0
SUMMARY:Janicsák Veca
UID:58b27595-65bf-44bf-ba56-6af6223c75fa
END:VEVENT
END:VCALENDAR
